BEGIN:VCALENDAR
VERSION:2.0
PRODID:-//Dún Laoghaire Harbour Company - ECPv4.6.1//NONSGML v1.0//EN
CALSCALE:GREGORIAN
METHOD:PUBLISH
X-WR-CALNAME:Dún Laoghaire Harbour Company
X-ORIGINAL-URL:http://dlharbour.ie
X-WR-CALDESC:Events for Dún Laoghaire Harbour Company
BEGIN:VEVENT
DTSTART;TZID=UTC+0:20170930T120000
DTEND;TZID=UTC+0:20170930T150000
DTSTAMP:20171024T042002
CREATED:20170926T145344Z
LAST-MODIFIED:20170928T140113Z
UID:4402-1506772800-1506783600@dlharbour.ie
SUMMARY:Hope Concert - Dun Laoghaire Harbour
DESCRIPTION:
URL:http://dlharbour.ie/event/hope-concert-dun-laoghaire-harbour/
CATEGORIES:Events
ATTACH;FMTTYPE=image/jpeg:http://dlharbour.ie/wp-content/uploads/2017/09/rssg-kings-arena-hope-concert-.jpg
END:VEVENT
END:VCALENDAR